{"text_format":"1","workbook":"xlsx","n_sheets":7,"sheets":["Instructions","Race NS","Race Spin","Boats","ScoreSheet","RSinput","Course"],"not_rendered":{"charts":0,"images":2,"macros":1,"external_links":0,"defined_names":6,"comments":0,"pivot_tables":0},"unopened":[],"bounds":{"document_bytes":16777216,"sheet_cells":100000,"rows_first":2000,"rows_last":500,"rows_between":2000,"halvings":0,"cell_chars":16384,"cell_head_chars":4096},"cells_cut":0,"cells_raw":0,"read":"whole","date_system":"1900"}

{"sheet":"Instructions","index":0,"n_rows":36,"n_cols":5,"rows_kept":36,"cut":false,"hidden":false,"merged":[[14,0,14,14],[0,0,0,14],[1,0,1,14],[2,0,2,14],[3,0,3,14],[4,0,4,14],[8,0,8,14],[9,0,9,14],[10,0,10,14],[11,0,11,14],[12,0,12,14],[13,0,13,14],[15,0,15,14],[16,0,16,14],[17,0,17,14],[18,0,18,14],[19,0,19,14]]}
["Instructions:  Frostbite racing worksheet"]
["ONLY Enter DATA In The SHADED Areas!!!!"]
["1. Select File - Save As, and Save with the \"File name\" as \"FB<Date>\", eg \"FB03Nov19\"."]
["2. Select the Committee Boat Name (use pulldown) and Enter the Race Date."]
["3. Enter the Course (ENTER THE START MARK).  Use the Pulldown List.  The Course Length is automatically calculated."]
[null,"The Start location is assumed to be \"Y\".  If the start location is moved then the distance must be manually calculated."]
[null,"If the course does not change for later starts, just leave the course selections blank for those starts.  "]
[null,"If later starts have a different course, enter the new course for each start that is different.  "]
["4. Enter each Yacht Name for the appropriate start.  Use the pulldown list.  The Sail Number and PHRF Rating is automatically   "]
["    completed.  If a Yacht Name is NOT in the pull down list, inquire about their race application and race fees. "]
["5. If the Start Time is different than the default, enter the New Start Time in 24-hour military format: (hr) (min) (sec)."]
["6. Save the File."]
["7. Enter the Finish Time for each boat in 24-hour military format: (hr) (min) (sec). "]
["     If a boat is DNS or DNF, leave the Finish Time as 23:00:00.  Enter the DNS or DNF in the Remarks column to the right of Corrected Time."]
["8. Save the File."]
["9. Select the Sort Fleet Button for each Class, located to the right of each Class's Remarks column."]
["10. Save the File."]
["11. Email the File to the Scorer at score@smsa.com"]
[]
["V 2019.FB.01   -  PHRF Boats as of  - 11/01/19"]
[]
["  Notes/changes:",null,"01 - first version for 2019 season"]
[]
[]
[]
[]
[]
[]
["PHRF Race Type:",null,"WL",null,"Mostly Windward Leward Course type"]
[null,null,"NSWL",null,"Mostly Windward Leward Course type"]
[]
[]
[null,null,"(NOT CURRENTLY SUPPORTED)"]
[null,null,"CR",null,"All points of sail, or equal/greater ratio of Reaching to W/L"]
[null,null,"NSWL",null,"Mostly Windward Leward Course type"]
[null,null,"NSCR",null,"All points of sail, or equal/greater ratio of Reaching to W/L"]

{"sheet":"Race NS","index":1,"n_rows":28,"n_cols":20,"rows_kept":28,"cut":false,"hidden":false,"merged":[[10,4,10,6],[3,3,3,5],[2,3,2,7],[9,9,9,11],[10,9,10,11],[6,2,6,3],[7,2,7,3],[5,1,5,3],[7,4,7,5],[4,3,4,19],[9,14,9,18],[10,14,10,18]]}
[]
["   Race Name :  --->",null,null,"Frostbite Series - Fall # ",null,null,null,null,null,null,null,null,null,null,null,null,"Non Spin Class"]
["  Committee Boat Name -->  ",null,null,"Cheetah"]
[null," Date  -->",null,"2019-08-14"]
[null," Conditions --> (optional)",null,"GOOD"]
[null,"NonSpin Class - Start =    ",null,null,13,5,0]
[null,null,"  Course   =      ",null,"Y","K","V",null,null,"Y",null,null,null,null,"<--  Default start location is 'Y', when starting from shore - \"X\" if on RC Boat"]
[null,null,"  Distance  =   ",null,{"$f":"IF(ISBLANK(F7), 0, VLOOKUP(E7,Course!$A$23:$T$41, LOOKUP(F7,Course!$A$2:$A$19,Course!$B$2:$B$19),FALSE))+IF(ISBLANK(G7), 0, VLOOKUP(F7,Course!$A$23:$T$41, LOOKUP(G7,Course!$A$2:$A$19,Course!$B$2:$B$19),FALSE))+IF(ISBLANK(J7), 0, VLOOKUP(G7,Course!$A$23:$T$41, LOOKUP(J7,Course!$A$2:$A$19,Course!$B$2:$B$19),FALSE))+IF(ISBLANK(K7), 0, VLOOKUP(J7,Course!$A$23:$T$41, LOOKUP(K7,Course!$A$2:$A$19,Course!$B$2:$B$19),FALSE))+IF(ISBLANK(L7), 0, VLOOKUP(K7,Course!$A$23:$T$41, LOOKUP(L7,Course!$A$2:$A$19,Course!$B$2:$B$19),FALSE))+IF(ISBLANK(M7), 0, VLOOKUP(L7,Course!$A$23:$T$41, LOOKUP(M7,Course!$A$2:$A$19,Course!$B$2:$B$19),FALSE))","v":3.58},null,null,null,null,null,null,null,null,null,"<--  Override Distance for Windward/Leward courses"]
[null,null,"PHRF Type =  ",null,"NSWL"]
[null,null,null,null,null,null,null,null,null,"Uncorrected",null,null,null,"PHRF","Corrected"]
[null,"Sail","Yacht","PHRF","Finish Time",null,null,null,null,"Elapsed Time",null,null,null,"Allowance","Time",null,null,null,null,"Remarks"]
[null,"Number","Name","Rating","(hr)","(min)","(sec)",null,null,"(hr)","(min)","(sec)",null,"(Sec)","(Total Sec)",null,"(hr)","(min)","(sec)","(DNS/DNF)"]
[1,{"$f":"LOOKUP(C13, Boats!$A$3:B$53,Boats!B$3:B$53)&NSFLAG","v":{"$error":"#N/A"}},null,{"$f":"IF(E$9=\"NSWL\",LOOKUP(C13, Boats!$A$3:E$53,Boats!H$3:H$53),(IF(E$9=\"WL\",LOOKUP(C13, Boats!$A$3:E$53,Boats!F$3:F$53),(IF(E$9=\"NSCR\",LOOKUP(C13, Boats!$A$3:E$53,Boats!I$3:I$53))))))","v":{"$error":"#N/A"}},23,0,0,{"$f":"((E13*60*60+F13*60+G13)-(E$6*60*60+F$6*60+G$6))","v":35700},{"$f":"J13*60*60+K13*60","v":35700},{"$f":"ROUNDDOWN(H13/60/60, 0)","v":9},{"$f":"ROUNDDOWN((H13 - (J13*60*60))/60, 0)","v":55},{"$f":"H13-I13","v":0},null,{"$f":"D13*$E$8","v":{"$error":"#N/A"}},{"$f":"((J13*60+K13)*60+L13)-N13","v":{"$error":"#N/A"}},{"$f":"Q13*60*60+R13*60","v":{"$error":"#N/A"}},{"$f":"ROUNDDOWN(O13/60/60, 0)","v":{"$error":"#N/A"}},{"$f":"ROUNDDOWN((O13 - (Q13*60*60))/60, 0)","v":{"$error":"#N/A"}},{"$f":"O13-P13","v":{"$error":"#N/A"}}]
[2,{"$f":"LOOKUP(C14, Boats!$A$3:B$53,Boats!B$3:B$53)&NSFLAG","v":{"$error":"#N/A"}},null,{"$f":"IF(E$9=\"NSWL\",LOOKUP(C14, Boats!$A$3:E$53,Boats!H$3:H$53),(IF(E$9=\"WL\",LOOKUP(C14, Boats!$A$3:E$53,Boats!F$3:F$53),(IF(E$9=\"NSCR\",LOOKUP(C14, Boats!$A$3:E$53,Boats!I$3:I$53))))))","v":{"$error":"#N/A"}},23,0,0,35700,35700,9,55,0,null,{"$error":"#N/A"},{"$error":"#N/A"},{"$error":"#N/A"},{"$error":"#N/A"},{"$error":"#N/A"},{"$error":"#N/A"}]
[3,{"$f":"LOOKUP(C15, Boats!$A$3:B$53,Boats!B$3:B$53)&NSFLAG","v":{"$error":"#N/A"}},null,{"$f":"IF(E$9=\"NSWL\",LOOKUP(C15, Boats!$A$3:E$53,Boats!H$3:H$53),(IF(E$9=\"WL\",LOOKUP(C15, Boats!$A$3:E$53,Boats!F$3:F$53),(IF(E$9=\"NSCR\",LOOKUP(C15, Boats!$A$3:E$53,Boats!I$3:I$53))))))","v":{"$error":"#N/A"}},23,0,0,35700,35700,9,55,0,null,{"$error":"#N/A"},{"$error":"#N/A"},{"$error":"#N/A"},{"$error":"#N/A"},{"$error":"#N/A"},{"$error":"#N/A"}]
[4,{"$f":"LOOKUP(C16, Boats!$A$3:B$53,Boats!B$3:B$53)&NSFLAG","v":{"$error":"#N/A"}},null,{"$f":"IF(E$9=\"NSWL\",LOOKUP(C16, Boats!$A$3:E$53,Boats!H$3:H$53),(IF(E$9=\"WL\",LOOKUP(C16, Boats!$A$3:E$53,Boats!F$3:F$53),(IF(E$9=\"NSCR\",LOOKUP(C16, Boats!$A$3:E$53,Boats!I$3:I$53))))))","v":{"$error":"#N/A"}},23,0,0,35700,35700,9,55,0,null,{"$error":"#N/A"},{"$error":"#N/A"},{"$error":"#N/A"},{"$error":"#N/A"},{"$error":"#N/A"},{"$error":"#N/A"}]
[5,{"$f":"LOOKUP(C17, Boats!$A$3:B$53,Boats!B$3:B$53)&NSFLAG","v":{"$error":"#N/A"}},null,{"$f":"IF(E$9=\"NSWL\",LOOKUP(C17, Boats!$A$3:E$53,Boats!H$3:H$53),(IF(E$9=\"WL\",LOOKUP(C17, Boats!$A$3:E$53,Boats!F$3:F$53),(IF(E$9=\"NSCR\",LOOKUP(C17, Boats!$A$3:E$53,Boats!I$3:I$53))))))","v":{"$error":"#N/A"}},23,0,0,35700,35700,9,55,0,null,{"$error":"#N/A"},{"$error":"#N/A"},{"$error":"#N/A"},{"$error":"#N/A"},{"$error":"#N/A"},{"$error":"#N/A"}]
[6,{"$f":"LOOKUP(C18, Boats!$A$3:B$53,Boats!B$3:B$53)&NSFLAG","v":{"$error":"#N/A"}},null,{"$f":"IF(E$9=\"NSWL\",LOOKUP(C18, Boats!$A$3:E$53,Boats!H$3:H$53),(IF(E$9=\"WL\",LOOKUP(C18, Boats!$A$3:E$53,Boats!F$3:F$53),(IF(E$9=\"NSCR\",LOOKUP(C18, Boats!$A$3:E$53,Boats!I$3:I$53))))))","v":{"$error":"#N/A"}},23,0,0,35700,35700,9,55,0,null,{"$error":"#N/A"},{"$error":"#N/A"},{"$error":"#N/A"},{"$error":"#N/A"},{"$error":"#N/A"},{"$error":"#N/A"}]
[7,{"$f":"LOOKUP(C19, Boats!$A$3:B$53,Boats!B$3:B$53)&NSFLAG","v":{"$error":"#N/A"}},null,{"$f":"IF(E$9=\"NSWL\",LOOKUP(C19, Boats!$A$3:E$53,Boats!H$3:H$53),(IF(E$9=\"WL\",LOOKUP(C19, Boats!$A$3:E$53,Boats!F$3:F$53),(IF(E$9=\"NSCR\",LOOKUP(C19, Boats!$A$3:E$53,Boats!I$3:I$53))))))","v":{"$error":"#N/A"}},23,0,0,35700,35700,9,55,0,null,{"$error":"#N/A"},{"$error":"#N/A"},{"$error":"#N/A"},{"$error":"#N/A"},{"$error":"#N/A"},{"$error":"#N/A"}]
[8,{"$f":"LOOKUP(C20, Boats!$A$3:B$53,Boats!B$3:B$53)&NSFLAG","v":{"$error":"#N/A"}},null,{"$f":"IF(E$9=\"NSWL\",LOOKUP(C20, Boats!$A$3:E$53,Boats!H$3:H$53),(IF(E$9=\"WL\",LOOKUP(C20, Boats!$A$3:E$53,Boats!F$3:F$53),(IF(E$9=\"NSCR\",LOOKUP(C20, Boats!$A$3:E$53,Boats!I$3:I$53))))))","v":{"$error":"#N/A"}},23,0,0,35700,35700,9,55,0,null,{"$error":"#N/A"},{"$error":"#N/A"},{"$error":"#N/A"},{"$error":"#N/A"},{"$error":"#N/A"},{"$error":"#N/A"}]
[9,{"$f":"LOOKUP(C21, Boats!$A$3:B$53,Boats!B$3:B$53)&NSFLAG","v":{"$error":"#N/A"}},null,{"$f":"IF(E$9=\"NSWL\",LOOKUP(C21, Boats!$A$3:E$53,Boats!H$3:H$53),(IF(E$9=\"WL\",LOOKUP(C21, Boats!$A$3:E$53,Boats!F$3:F$53),(IF(E$9=\"NSCR\",LOOKUP(C21, Boats!$A$3:E$53,Boats!I$3:I$53))))))","v":{"$error":"#N/A"}},23,0,0,35700,35700,9,55,0,null,{"$error":"#N/A"},{"$error":"#N/A"},{"$error":"#N/A"},{"$error":"#N/A"},{"$error":"#N/A"},{"$error":"#N/A"}]
[10,{"$f":"LOOKUP(C22, Boats!$A$3:B$53,Boats!B$3:B$53)&NSFLAG","v":{"$error":"#N/A"}},null,{"$f":"IF(E$9=\"NSWL\",LOOKUP(C22, Boats!$A$3:E$53,Boats!H$3:H$53),(IF(E$9=\"WL\",LOOKUP(C22, Boats!$A$3:E$53,Boats!F$3:F$53),(IF(E$9=\"NSCR\",LOOKUP(C22, Boats!$A$3:E$53,Boats!I$3:I$53))))))","v":{"$error":"#N/A"}},23,0,0,35700,35700,9,55,0,null,{"$error":"#N/A"},{"$error":"#N/A"},{"$error":"#N/A"},{"$error":"#N/A"},{"$error":"#N/A"},{"$error":"#N/A"}]
[11,{"$f":"LOOKUP(C23, Boats!$A$3:B$53,Boats!B$3:B$53)&NSFLAG","v":{"$error":"#N/A"}},null,{"$f":"IF(E$9=\"NSWL\",LOOKUP(C23, Boats!$A$3:E$53,Boats!H$3:H$53),(IF(E$9=\"WL\",LOOKUP(C23, Boats!$A$3:E$53,Boats!F$3:F$53),(IF(E$9=\"NSCR\",LOOKUP(C23, Boats!$A$3:E$53,Boats!I$3:I$53))))))","v":{"$error":"#N/A"}},23,0,0,35700,35700,9,55,0,null,{"$error":"#N/A"},{"$error":"#N/A"},{"$error":"#N/A"},{"$error":"#N/A"},{"$error":"#N/A"},{"$error":"#N/A"}]
[12,{"$f":"LOOKUP(C24, Boats!$A$3:B$53,Boats!B$3:B$53)&NSFLAG","v":{"$error":"#N/A"}},null,{"$f":"IF(E$9=\"NSWL\",LOOKUP(C24, Boats!$A$3:E$53,Boats!H$3:H$53),(IF(E$9=\"WL\",LOOKUP(C24, Boats!$A$3:E$53,Boats!F$3:F$53),(IF(E$9=\"NSCR\",LOOKUP(C24, Boats!$A$3:E$53,Boats!I$3:I$53))))))","v":{"$error":"#N/A"}},23,0,0,35700,35700,9,55,0,null,{"$error":"#N/A"},{"$error":"#N/A"},{"$error":"#N/A"},{"$error":"#N/A"},{"$error":"#N/A"},{"$error":"#N/A"}]
[13,{"$f":"LOOKUP(C25, Boats!$A$3:B$53,Boats!B$3:B$53)&NSFLAG","v":{"$error":"#N/A"}},null,{"$f":"IF(E$9=\"NSWL\",LOOKUP(C25, Boats!$A$3:E$53,Boats!H$3:H$53),(IF(E$9=\"WL\",LOOKUP(C25, Boats!$A$3:E$53,Boats!F$3:F$53),(IF(E$9=\"NSCR\",LOOKUP(C25, Boats!$A$3:E$53,Boats!I$3:I$53))))))","v":{"$error":"#N/A"}},23,0,0,35700,35700,9,55,0,null,{"$error":"#N/A"},{"$error":"#N/A"},{"$error":"#N/A"},{"$error":"#N/A"},{"$error":"#N/A"},{"$error":"#N/A"}]
[14,{"$f":"LOOKUP(C26, Boats!$A$3:B$53,Boats!B$3:B$53)&NSFLAG","v":{"$error":"#N/A"}},null,{"$f":"IF(E$9=\"NSWL\",LOOKUP(C26, Boats!$A$3:E$53,Boats!H$3:H$53),(IF(E$9=\"WL\",LOOKUP(C26, Boats!$A$3:E$53,Boats!F$3:F$53),(IF(E$9=\"NSCR\",LOOKUP(C26, Boats!$A$3:E$53,Boats!I$3:I$53))))))","v":{"$error":"#N/A"}},23,0,0,35700,35700,9,55,0,null,{"$error":"#N/A"},{"$error":"#N/A"},{"$error":"#N/A"},{"$error":"#N/A"},{"$error":"#N/A"},{"$error":"#N/A"}]
[15,{"$f":"LOOKUP(C27, Boats!$A$3:B$53,Boats!B$3:B$53)&NSFLAG","v":{"$error":"#N/A"}},null,{"$f":"IF(E$9=\"NSWL\",LOOKUP(C27, Boats!$A$3:E$53,Boats!H$3:H$53),(IF(E$9=\"WL\",LOOKUP(C27, Boats!$A$3:E$53,Boats!F$3:F$53),(IF(E$9=\"NSCR\",LOOKUP(C27, Boats!$A$3:E$53,Boats!I$3:I$53))))))","v":{"$error":"#N/A"}},23,0,0,35700,35700,9,55,0,null,{"$error":"#N/A"},{"$error":"#N/A"},{"$error":"#N/A"},{"$error":"#N/A"},{"$error":"#N/A"},{"$error":"#N/A"}]
[16,{"$f":"LOOKUP(C28, Boats!$A$3:B$53,Boats!B$3:B$53)&NSFLAG","v":{"$error":"#N/A"}},null,{"$f":"IF(E$9=\"NSWL\",LOOKUP(C28, Boats!$A$3:E$53,Boats!H$3:H$53),(IF(E$9=\"WL\",LOOKUP(C28, Boats!$A$3:E$53,Boats!F$3:F$53),(IF(E$9=\"NSCR\",LOOKUP(C28, Boats!$A$3:E$53,Boats!I$3:I$53))))))","v":{"$error":"#N/A"}},23,0,0,35700,35700,9,55,0,null,{"$error":"#N/A"},{"$error":"#N/A"},{"$error":"#N/A"},{"$error":"#N/A"},{"$error":"#N/A"},{"$error":"#N/A"}]

{"sheet":"Race Spin","index":2,"n_rows":28,"n_cols":20,"rows_kept":28,"cut":false,"hidden":false,"merged":[[5,1,5,3],[2,3,2,7],[3,3,3,5],[4,3,4,19],[6,2,6,3],[7,2,7,3],[7,4,7,5],[9,9,9,11],[9,14,9,18],[10,4,10,6],[10,9,10,11],[10,14,10,18]]}
[]
["   Race Name :  --->",null,null,{"$f":"'Race NS'!D2","v":"Frostbite Series - Fall # "}]
["  Committee Boat Name -->  ",null,null,{"$f":"'Race NS'!D3:H3","v":"Cheetah"}]
[null," Date  -->",null,{"$f":"'Race NS'!D4:F4","v":"2019-08-14"}]
[null," Conditions --> (optional)",null,{"$f":"'Race NS'!D5:T5","v":"GOOD"}]
[null,"Spin  - Start     =    ",null,null,13,10,0]
[null,null,"  Course   =      ",null,"Y",null,null,null,null,null,null,null,null,null,"Leave course blank if the same as prior section start"]
[null,null,"  Distance  =   ",null,{"$f":"IF(ISBLANK(F7),'Race NS'!$E$8, VLOOKUP( E7,Course!$A$23:$T$41, LOOKUP(F7,Course!$A$2:$A$19,Course!$B$2:$B$19),FALSE))+IF(ISBLANK(G7), 0, VLOOKUP(F7,Course!$A$23:$T$41, LOOKUP(G7,Course!$A$2:$A$19,Course!$B$2:$B$19),FALSE))+IF(ISBLANK(J7), 0, VLOOKUP(G7,Course!$A$23:$T$41, LOOKUP(J7,Course!$A$2:$A$19,Course!$B$2:$B$19),FALSE))+IF(ISBLANK(K7), 0, VLOOKUP(J7,Course!$A$23:$T$41, LOOKUP(K7,Course!$A$2:$A$19,Course!$B$2:$B$19),FALSE))+IF(ISBLANK(L7), 0, VLOOKUP(K7,Course!$A$23:$T$41, LOOKUP(L7,Course!$A$2:$A$19,Course!$B$2:$B$19),FALSE))+IF(ISBLANK(M7), 0, VLOOKUP(L7,Course!$A$23:$T$41, LOOKUP(M7,Course!$A$2:$A$19,Course!$B$2:$B$19),FALSE))","v":3.58}]
[null,null,"PHRF Type =  ",null,"WL"]
[null,null,null,null,null,null,null,null,null,"Uncorrected",null,null,null,"PHRF","Corrected"]
[null,"Sail","Yacht","PHRF","Finish Time",null,null,null,null,"Elapsed Time",null,null,null,"Allowance","Time",null,null,null,null,"Remarks"]
[null,"Number","Name","Rating","(hr)","(min)","(sec)",null,null,"(hr)","(min)","(sec)",null,"(Sec)","(Total Sec)",null,"(hr)","(min)","(sec)","(DNS/DNF)"]
[1,{"$f":"LOOKUP(C13, Boats!$A$3:B$53,Boats!B$3:B$53)","v":{"$error":"#N/A"}},null,{"$f":"IF(E$9=\"NS\",LOOKUP(C13, Boats!$A$3:E$53,Boats!I$3:I$53),(IF(E$9=\"WL\",LOOKUP(C13, Boats!$A$3:E$53,Boats!F$3:F$53),(IF(E$9=\"CR\",LOOKUP(C13, Boats!$A$3:E$53,Boats!G$3:G$53))))))","v":{"$error":"#N/A"}},23,0,0,{"$f":"((E13*60*60+F13*60+G13)-(E$6*60*60+F$6*60+G$6))","v":35400},{"$f":"J13*60*60+K13*60","v":35400},{"$f":"ROUNDDOWN(H13/60/60, 0)","v":9},{"$f":"ROUNDDOWN((H13 - (J13*60*60))/60, 0)","v":50},{"$f":"H13-I13","v":0},null,{"$f":"D13*$E$8","v":{"$error":"#N/A"}},{"$f":"((J13*60+K13)*60+L13)-N13","v":{"$error":"#N/A"}},{"$f":"Q13*60*60+R13*60","v":{"$error":"#N/A"}},{"$f":"ROUNDDOWN(O13/60/60, 0)","v":{"$error":"#N/A"}},{"$f":"ROUNDDOWN((O13 - (Q13*60*60))/60, 0)","v":{"$error":"#N/A"}},{"$f":"O13-P13","v":{"$error":"#N/A"}}]
[2,{"$f":"LOOKUP(C14, Boats!$A$3:B$53,Boats!B$3:B$53)","v":{"$error":"#N/A"}},null,{"$f":"IF(E$9=\"NS\",LOOKUP(C14, Boats!$A$3:E$53,Boats!I$3:I$53),(IF(E$9=\"WL\",LOOKUP(C14, Boats!$A$3:E$53,Boats!F$3:F$53),(IF(E$9=\"CR\",LOOKUP(C14, Boats!$A$3:E$53,Boats!G$3:G$53))))))","v":{"$error":"#N/A"}},23,0,0,35400,35400,9,50,0,null,{"$error":"#N/A"},{"$error":"#N/A"},{"$error":"#N/A"},{"$error":"#N/A"},{"$error":"#N/A"},{"$error":"#N/A"}]
[3,{"$f":"LOOKUP(C15, Boats!$A$3:B$53,Boats!B$3:B$53)","v":{"$error":"#N/A"}},null,{"$f":"IF(E$9=\"NS\",LOOKUP(C15, Boats!$A$3:E$53,Boats!I$3:I$53),(IF(E$9=\"WL\",LOOKUP(C15, Boats!$A$3:E$53,Boats!F$3:F$53),(IF(E$9=\"CR\",LOOKUP(C15, Boats!$A$3:E$53,Boats!G$3:G$53))))))","v":{"$error":"#N/A"}},23,0,0,35400,35400,9,50,0,null,{"$error":"#N/A"},{"$error":"#N/A"},{"$error":"#N/A"},{"$error":"#N/A"},{"$error":"#N/A"},{"$error":"#N/A"}]
[4,{"$f":"LOOKUP(C16, Boats!$A$3:B$53,Boats!B$3:B$53)","v":{"$error":"#N/A"}},null,{"$f":"IF(E$9=\"NS\",LOOKUP(C16, Boats!$A$3:E$53,Boats!I$3:I$53),(IF(E$9=\"WL\",LOOKUP(C16, Boats!$A$3:E$53,Boats!F$3:F$53),(IF(E$9=\"CR\",LOOKUP(C16, Boats!$A$3:E$53,Boats!G$3:G$53))))))","v":{"$error":"#N/A"}},23,0,0,35400,35400,9,50,0,null,{"$error":"#N/A"},{"$error":"#N/A"},{"$error":"#N/A"},{"$error":"#N/A"},{"$error":"#N/A"},{"$error":"#N/A"}]
[5,{"$f":"LOOKUP(C17, Boats!$A$3:B$53,Boats!B$3:B$53)","v":{"$error":"#N/A"}},null,{"$f":"IF(E$9=\"NS\",LOOKUP(C17, Boats!$A$3:E$53,Boats!I$3:I$53),(IF(E$9=\"WL\",LOOKUP(C17, Boats!$A$3:E$53,Boats!F$3:F$53),(IF(E$9=\"CR\",LOOKUP(C17, Boats!$A$3:E$53,Boats!G$3:G$53))))))","v":{"$error":"#N/A"}},23,0,0,35400,35400,9,50,0,null,{"$error":"#N/A"},{"$error":"#N/A"},{"$error":"#N/A"},{"$error":"#N/A"},{"$error":"#N/A"},{"$error":"#N/A"}]
[6,{"$f":"LOOKUP(C18, Boats!$A$3:B$53,Boats!B$3:B$53)","v":{"$error":"#N/A"}},null,{"$f":"IF(E$9=\"NS\",LOOKUP(C18, Boats!$A$3:E$53,Boats!I$3:I$53),(IF(E$9=\"WL\",LOOKUP(C18, Boats!$A$3:E$53,Boats!F$3:F$53),(IF(E$9=\"CR\",LOOKUP(C18, Boats!$A$3:E$53,Boats!G$3:G$53))))))","v":{"$error":"#N/A"}},23,0,0,35400,35400,9,50,0,null,{"$error":"#N/A"},{"$error":"#N/A"},{"$error":"#N/A"},{"$error":"#N/A"},{"$error":"#N/A"},{"$error":"#N/A"}]
[7,{"$f":"LOOKUP(C19, Boats!$A$3:B$53,Boats!B$3:B$53)","v":{"$error":"#N/A"}},null,{"$f":"IF(E$9=\"NS\",LOOKUP(C19, Boats!$A$3:E$53,Boats!I$3:I$53),(IF(E$9=\"WL\",LOOKUP(C19, Boats!$A$3:E$53,Boats!F$3:F$53),(IF(E$9=\"CR\",LOOKUP(C19, Boats!$A$3:E$53,Boats!G$3:G$53))))))","v":{"$error":"#N/A"}},23,0,0,35400,35400,9,50,0,null,{"$error":"#N/A"},{"$error":"#N/A"},{"$error":"#N/A"},{"$error":"#N/A"},{"$error":"#N/A"},{"$error":"#N/A"}]
[8,{"$f":"LOOKUP(C20, Boats!$A$3:B$53,Boats!B$3:B$53)","v":{"$error":"#N/A"}},null,{"$f":"IF(E$9=\"NS\",LOOKUP(C20, Boats!$A$3:E$53,Boats!I$3:I$53),(IF(E$9=\"WL\",LOOKUP(C20, Boats!$A$3:E$53,Boats!F$3:F$53),(IF(E$9=\"CR\",LOOKUP(C20, Boats!$A$3:E$53,Boats!G$3:G$53))))))","v":{"$error":"#N/A"}},23,0,0,35400,35400,9,50,0,null,{"$error":"#N/A"},{"$error":"#N/A"},{"$error":"#N/A"},{"$error":"#N/A"},{"$error":"#N/A"},{"$error":"#N/A"}]
[9,{"$f":"LOOKUP(C21, Boats!$A$3:B$53,Boats!B$3:B$53)","v":{"$error":"#N/A"}},null,{"$f":"IF(E$9=\"NS\",LOOKUP(C21, Boats!$A$3:E$53,Boats!I$3:I$53),(IF(E$9=\"WL\",LOOKUP(C21, Boats!$A$3:E$53,Boats!F$3:F$53),(IF(E$9=\"CR\",LOOKUP(C21, Boats!$A$3:E$53,Boats!G$3:G$53))))))","v":{"$error":"#N/A"}},23,0,0,35400,35400,9,50,0,null,{"$error":"#N/A"},{"$error":"#N/A"},{"$error":"#N/A"},{"$error":"#N/A"},{"$error":"#N/A"},{"$error":"#N/A"}]
[10,{"$f":"LOOKUP(C22, Boats!$A$3:B$53,Boats!B$3:B$53)","v":{"$error":"#N/A"}},null,{"$f":"IF(E$9=\"NS\",LOOKUP(C22, Boats!$A$3:E$53,Boats!I$3:I$53),(IF(E$9=\"WL\",LOOKUP(C22, Boats!$A$3:E$53,Boats!F$3:F$53),(IF(E$9=\"CR\",LOOKUP(C22, Boats!$A$3:E$53,Boats!G$3:G$53))))))","v":{"$error":"#N/A"}},23,0,0,35400,35400,9,50,0,null,{"$error":"#N/A"},{"$error":"#N/A"},{"$error":"#N/A"},{"$error":"#N/A"},{"$error":"#N/A"},{"$error":"#N/A"}]
[11,{"$f":"LOOKUP(C23, Boats!$A$3:B$53,Boats!B$3:B$53)","v":{"$error":"#N/A"}},null,{"$f":"IF(E$9=\"NS\",LOOKUP(C23, Boats!$A$3:E$53,Boats!I$3:I$53),(IF(E$9=\"WL\",LOOKUP(C23, Boats!$A$3:E$53,Boats!F$3:F$53),(IF(E$9=\"CR\",LOOKUP(C23, Boats!$A$3:E$53,Boats!G$3:G$53))))))","v":{"$error":"#N/A"}},23,0,0,35400,35400,9,50,0,null,{"$error":"#N/A"},{"$error":"#N/A"},{"$error":"#N/A"},{"$error":"#N/A"},{"$error":"#N/A"},{"$error":"#N/A"}]
[12,{"$f":"LOOKUP(C24, Boats!$A$3:B$53,Boats!B$3:B$53)","v":{"$error":"#N/A"}},null,{"$f":"IF(E$9=\"NS\",LOOKUP(C24, Boats!$A$3:E$53,Boats!I$3:I$53),(IF(E$9=\"WL\",LOOKUP(C24, Boats!$A$3:E$53,Boats!F$3:F$53),(IF(E$9=\"CR\",LOOKUP(C24, Boats!$A$3:E$53,Boats!G$3:G$53))))))","v":{"$error":"#N/A"}},23,0,0,35400,35400,9,50,0,null,{"$error":"#N/A"},{"$error":"#N/A"},{"$error":"#N/A"},{"$error":"#N/A"},{"$error":"#N/A"},{"$error":"#N/A"}]
[13,{"$f":"LOOKUP(C25, Boats!$A$3:B$53,Boats!B$3:B$53)","v":{"$error":"#N/A"}},null,{"$f":"IF(E$9=\"NS\",LOOKUP(C25, Boats!$A$3:E$53,Boats!I$3:I$53),(IF(E$9=\"WL\",LOOKUP(C25, Boats!$A$3:E$53,Boats!F$3:F$53),(IF(E$9=\"CR\",LOOKUP(C25, Boats!$A$3:E$53,Boats!G$3:G$53))))))","v":{"$error":"#N/A"}},23,0,0,35400,35400,9,50,0,null,{"$error":"#N/A"},{"$error":"#N/A"},{"$error":"#N/A"},{"$error":"#N/A"},{"$error":"#N/A"},{"$error":"#N/A"}]
[14,{"$f":"LOOKUP(C26, Boats!$A$3:B$53,Boats!B$3:B$53)","v":{"$error":"#N/A"}},null,{"$f":"IF(E$9=\"NS\",LOOKUP(C26, Boats!$A$3:E$53,Boats!I$3:I$53),(IF(E$9=\"WL\",LOOKUP(C26, Boats!$A$3:E$53,Boats!F$3:F$53),(IF(E$9=\"CR\",LOOKUP(C26, Boats!$A$3:E$53,Boats!G$3:G$53))))))","v":{"$error":"#N/A"}},23,0,0,35400,35400,9,50,0,null,{"$error":"#N/A"},{"$error":"#N/A"},{"$error":"#N/A"},{"$error":"#N/A"},{"$error":"#N/A"},{"$error":"#N/A"}]
[15,{"$f":"LOOKUP(C27, Boats!$A$3:B$53,Boats!B$3:B$53)","v":{"$error":"#N/A"}},null,{"$f":"IF(E$9=\"NS\",LOOKUP(C27, Boats!$A$3:E$53,Boats!I$3:I$53),(IF(E$9=\"WL\",LOOKUP(C27, Boats!$A$3:E$53,Boats!F$3:F$53),(IF(E$9=\"CR\",LOOKUP(C27, Boats!$A$3:E$53,Boats!G$3:G$53))))))","v":{"$error":"#N/A"}},23,0,0,35400,35400,9,50,0,null,{"$error":"#N/A"},{"$error":"#N/A"},{"$error":"#N/A"},{"$error":"#N/A"},{"$error":"#N/A"},{"$error":"#N/A"}]
[16,{"$f":"LOOKUP(C28, Boats!$A$3:B$53,Boats!B$3:B$53)","v":{"$error":"#N/A"}},null,{"$f":"IF(E$9=\"NS\",LOOKUP(C28, Boats!$A$3:E$53,Boats!I$3:I$53),(IF(E$9=\"WL\",LOOKUP(C28, Boats!$A$3:E$53,Boats!F$3:F$53),(IF(E$9=\"CR\",LOOKUP(C28, Boats!$A$3:E$53,Boats!G$3:G$53))))))","v":{"$error":"#N/A"}},23,0,0,35400,35400,9,50,0,null,{"$error":"#N/A"},{"$error":"#N/A"},{"$error":"#N/A"},{"$error":"#N/A"},{"$error":"#N/A"},{"$error":"#N/A"}]

{"sheet":"Boats","index":3,"n_rows":109,"n_cols":23,"rows_kept":109,"cut":false,"hidden":false,"merged":[[0,5,0,8]]}
[null,"N",null,null,null,"PHRF"]
["Boat","SailNo","Owner","Valid List 2019","email","Spin - WL","Spin - CR","NonSpin-WL","NonSpin-CR","Race Fee","Spinclass","I","J","P","E","LOA","LWL","Disp","UpSAD","DWSAD","DLWL"]
[null,null,null,null,null,null,null,null,null,null,null,null,null,null,null,null,null,null,null,null,null,{"$f":"SUM(V4:V46)","v":21}]
["American Flyer",39519,"Dan Schneider","Y","dc_schneider@msn.com",36,33,42,42,"yes","A",51.25,14.04,50.45,18.47,39.4,34.119999999999997,13000,29.96,63.34,146.10607247052599,null,"American Flyer"]
["Arctic Tern",93642,"PAX","Y",null,168,168,168,168,"no","C",null,null,null,null,null,null,null,null,null,null,1]
["Bad Cat","063","Jim Whited","Y","jimw625@comcast.net",39,33,48,48,"yes","A",48.36,13.84,45.17,45.17,36.5,32.700000000000003,9300,23.92,70.47,118.74,1]
["Badger",144,"Carl Feusaherns","Y","feus@comcast.net",177,177,177,177,"yes","C",30.5,9.5,29.42,12.29,25.9,21.7,4250,19.829999999999998,41.94,185.68,1]
["Barba Roja",73052,"Stephen Birchfield","Y",null,165,165,165,165,"yes","C"]
["Blue Boat Home",4856,"Lowell Martin","Y",null,231,231,231,231,"no","C",34,11.25,28.67,10.5,26.8,21.8,6850,15.14,35.43,295.17,1]
["Blue Goose",93643,"PAX","N",null,168,168,168,168,"no","C"]
["C 2 (squared)",720,"Chris Staley","Y",null,189,189,189,189,"yes","C"]
["Cheetah",50473,"Marc Briere","Y","race@smsa.com",48,39,57,57,"yes","A",43.7,12.6,44.7,16.5,35.86,31.76,8150,25.41,73.319999999999993,113.14,1]
["Elan",43162,"Gary Shaw","Y","garyshaw75@aol.com",156,156,156,156,"no","C",49.5,15.33,42,11,36.83,29.5,13500,18.71,39.33,234.75762231915499,1]
["Flyer",25126,"Michael Major","N","mjamesmajor@gmail.com",111,111,114,114,"no","B",40.18,11.65,42.27,15.79,34.4,27.2,8825,21.24,39.65,195.78]
["Hellcat",52994,"Jim Keen","Y",null,96,99,102,105,"yes"]
["J Ray","USA47","Larry Ray","Y","mlray@gmail.com",114,111,120,120,"yes","B",26.77,7.68,26.16,9.44,22.8,20.5,1750,29.6,43,90.68,1]
["Juggernaut",51277,"David Ahearn","N",null,39,39,39,39,"no","A",50.82,14.7,51.75,16.5,37.700000000000003,34.200000000000003,11400,25.24,71.02,127.23]
["Krugerrand",53477,"Sarah Southworth","N","write2ss@cs.com",132,132,132,132,"no","B",48.42,14.33,42.33,13,36.17,29.42,15300,17.77,35.47,{"$f":"((R18/(2240*POWER((Q18/100),3))))","v":268.2349766677014},1]
["Lakahi",25260,"Jim Young","N","youngjw1203@earthlink.net",72,72,72,72,"yes","A",48,14.25,47,14.58,35.42,30,9800,26.64,50.21,162.03703703703701]
["Lickety Split",43067,"Donna Maneely","Y","damaneely@verizon.net",168,168,168,168,"no","C",40.86,13,35.36,11.79,31.71,25,9400,18.73,33.700000000000003,268.57142857142901,1]
["Natural Disaster",63243,"Thomas Moulds","N","tmoulds@dtiweb.net",114,114,114,114,"yes","B",36,11.75,31.5,10.75,30,27.5,3600,28.56,57.33,{"$f":"((R21/(2240*POWER((Q21/100),3))))","v":77.278093807019403},1]
["One Trick Pony",188,"David Meiser","Y",null,24,24,30,30,"yes","A"]
["Pony Express",50588,"Jimmy Yurko","Y","jimmydyurko@gmail.com",132,129,138,138,"yes","B",28,8.5,28,11,25,21.3,2000,27.49,61.72,92.39,1]
["Pursuit",23798,"Norm Dawley","Y","normdawley@norms-site.com",57,48,66,66,"yes","A",52,16,55,18,47.67,37.17,18689,20.66,49.83,162.07,1]
["Rakali","USA335","Mark Witte","Y","mcwitte@md.metrocast.net",90,87,96,96,"yes","A",40.6,13.5,41.5,14.6,34.5,29.5,7750,23.54,51.36,134.77000000000001,1]
["Shamal",23827,"Jeff Carlsen","Y",null,174,174,174,174,"yes","C",30.75,9.83,26.5,9.5,24.58,19.170000000000002,2950,23.78,46.61,187,1]
["Shermax",2276,"Max Munger","Y","maxmunger@verizon.net",177,177,177,177,"no","C",43,13.16,37.5,12,29.91,25,10200,19.02,37.85,291.42857142857099]
["Short Bus",71221,"Hawk Caldwell","Y","hawkcaldwell@gmail.com",45,36,54,54,"yes","A",36.71,10.99,38.630000000000003,14.38,30.8,28.3,4028,36.86,92.16,79.34,1]
["SNUZULUZ",327,"Clarke McKinney","Y",null,177,168,180,180,"yes","C"]
["Spinnster",161,"Betsy Dodge","N","bdodge33@comcast.net",171,171,171,171,"yes","C",30.5,9.5,29.5,12.25,25.92,21.67,4250,22.36,39.880000000000003,186.45076850448501,1]
["Splash","USA333","Tom Attick","N","tattick@chattick.com",90,90,96,96,"no","A",40.6,13.5,41.5,14.6,34.5,29.5,7750,23.54,51.36,134.77000000000001,1]
["Stingray",63383,"Elliot Peterson","Y","tepeterson@dcscorp.com",129,129,129,129,"yes","B",38,10.95,32.4,12,27.9,23.8,5100,24.12,45.56,168.88508104322199,1]
["Stormy Petrel",93644,"PAX","N",null,168,168,168,168,"no","C"]
["Supra",30023,"Peter D'Arista","N","peterd@toyotamd.com",48,48,57,57,"no","A",30.3,9.6,33,12.8,26,24.7,2447,31.39,99.92,72.489999999999995,1]
["Synergy",83096,"Peter LaRoche","Y",null,168,168,168,168,"yes","C"]
["The Doghouse",63199,"Dan Shannon","Y","shannon63199@verizon.net",111,111,111,111,"yes","B",40,12,35,12,29.5,25,6000,24.12,47.08,{"$f":"((R36/(2240*POWER((Q36/100),3))))","v":171.42857142857142},1]
["Triton's Fury",499,"T. J. O'Farrell","N","triton499@gmail.com",252,252,252,252,"no","C",31,10,32.979999999999997,12.83,28.5,20.5,8200,14.4,26.05,424.92]
["Whirlaway",73211,"Frank Walter","Y",null,114,114,114,114,"no","B"]
["Wicked Good",93121,"Mark Gyorgy","Y","mygorgy@dscorp.com",132,132,132,132,"yes","B",35.25,10.199999999999999,37.200000000000003,12,26.83,23.42,3800,29.81,51.7,132.06109868494099,1]
["Wild Thing",87638,"Jimmy Yurko","N","jimmydyurko@yahoo.com",186,186,186,186,"yes","C",22.6,7.25,24.04,9.33,20.329999999999998,18.420000000000002,1160,28.1,58.28,83.13]
[]
[]
[]
[]
[]
[]
[]
[]
[]
[]
[]
[]
[]
[]
[]
[]
[]
[]
[]
[]
[]
["Old Boat Data:"]
["American Flyer",39519,"Dan Schneider",null,"dc_schneider@msn.com",36,36,42,42,"yes","A",51.25,14.04,50.45,18.47,39.4,34.119999999999997,13000,29.96,63.34,146.10607247052599,1]
["Antagonist",217,"Eddie Sierra/Scott Roland",null,"ed.sierra347@gmail.com",114,111,120,120,"yes","B",26.77,7.68,26.16,9.44,22.8,20.5,1750,29.6,43,90.68,1]
["Arctic Tern",93642,"PAX",null,null,168,168,168,168,"no","C"]
["Audrey",764,"Trevor Harney",null,"Trevor.Harney@atkinsglobal.com",174,174,174,174,"no","C"]
["Bad Cat","063","Jim Whited",null,"jimw625@comcast.net",39,33,48,48,"yes","A",48.36,13.84,45.17,45.17,36.5,32.700000000000003,9300,26.65,73.27,119,1]
["Badger",144,"Carl Feusaherns",null,"feus@comcast.net",177,177,177,177,"yes","C",28.75,9.66,28,9.75,24.5,20.5,2900,24.11,46.03,150.27557431179,1]
["Blue Goose",93643,"PAX",null,null,168,168,168,168,"no","C"]
["Cheetah",50473,"Marc Briere",null,"race@smsa.com",36,36,45,45,"yes","A",43.7,12.6,44.7,16.5,35.86,31.76,8150,28.76,70.08,114,1]
["Deju Vue",41299,"Douglas Aulson",null,null,147,147,147,147,"yes","B"]
["Easy Button",93084,"David Meiser",null,"meiser@comcast.net",159,159,159,159,"yes","C",27.75,8.25,29.75,11.72,25.7,20,2600,27.79,46.9,145.08928571428601,1]
["Elan",43162,"Gary Shaw",null,"garyshaw75@aol.com",153,153,153,153,"yes","C",49.5,15.33,42,11,36.83,29.5,13500,18.71,39.33,234.75762231915499,1]
["Flyer",25126,"Michael Major",null,"mjamesmajor@gmail.com",111,111,114,114,"yes","B",40.18,11.65,42.27,15.79,34.4,27.2,8825,21.24,39.65,195.78,1]
["Gift Horse",87012,"Jimmy Yurko",null,"jimmydyurko@gmail.com",111,111,111,111,"yes","B",null,null,null,null,null,null,null,null,null,null,1]
["J Ray","USA47","Larry Ray",null,"mlray@gmail.com",114,114,120,120,"yes","B",26.77,7.68,26.16,9.44,22.8,20.5,1750,29.6,43,90.68,1]
["Krugerrand",53477,"Sarah Southworth",null,"write2ss@cs.com",132,132,132,132,"yes","B",48.42,14.33,42.33,13,36.17,29.42,15300,17.77,35.47,{"$f":"((R77/(2240*POWER((Q77/100),3))))","v":268.2349766677014},1]
["Lakahi",25260,"Jim Young",null,"youngjw1203@earthlink.net",72,72,72,72,"no","A",48,14.25,47,14.58,35.42,30,9800,26.64,50.21,162.03703703703701]
["Lickety Split",43067,"Donna Maneely",null,"damaneely@verizon.net",168,168,168,168,"yes","C",40.86,13,35.36,11.79,31.71,25,9400,18.73,33.700000000000003,268.57142857142901]
["Natural Disaster",63243,"Thomas Moulds",null,"tmoulds@dtiweb.net",114,114,114,114,"yes","B",36,11.75,31.5,10.75,30,27.5,3600,28.56,57.33,{"$f":"((R80/(2240*POWER((Q80/100),3))))","v":77.278093807019403},1]
["Pony Express",50588,"Jimmy Yurko",null,"jimmydyurko@gmail.com",132,129,138,138,"yes","B",28,8.5,28,11,25,21.3,2000,27.49,61.72,92.39,1]
["Pursuit",23798,"Norm Dawley",null,"normdawley@norms-site.com",51,45,66,66,"yes","A",52,16,55,18,47.67,37.17,18689,23.26,45.15,162.46520482011201,1]
["Rakali","USAxxx","Mark Witte",null,"mcwitte@md.metrocast.net",90,90,96,96,"yes","A"]
["Rhumb Punch",26007,"John Edwards",null,"rhumbpunch@msn.com",81,81,90,90,"yes","A"]
["Shamal",23827,"Jeff Carlsen",null,null,174,174,174,174,"yes","C",30.75,9.83,26.5,9.5,24.58,19.170000000000002,2950,23.78,46.61,187,1]
["Shermax",2276,"Max Munger",null,"maxmunger@verizon.net",177,177,177,177,"yes","C",43,13.16,37.5,12,29.91,25,10200,19.02,37.85,291.42857142857099,1]
["Short Bus",71221,"Hawk Caldwell",null,"hawkcaldwell@gmail.com",42,42,51,51,"yes","A",null,null,null,null,null,null,null,null,null,null,1]
["Spinnster",161,"Betsy Dodge",null,"bdodge33@comcast.net",171,171,171,171,"yes","C",30.5,9.5,29.5,12.25,25.92,21.67,4250,22.36,39.880000000000003,186.45076850448501,1]
["Splash","USA xxx","Tom Attick",null,"tattick@chattick.com",90,90,96,96,"yes","A"]
["Stingray",63383,"Elliot Peterson",null,"tepeterson@dcscorp.com",129,129,129,129,"yes","B",38,10.95,32.4,12,27.9,23.8,5100,24.12,45.56,168.88508104322199,1]
["Stormy Petrel",93644,"PAX",null,null,168,168,168,168,"no","C"]
["Supra Turbo",2610,"Peter D'Arista",null,"peterd@toyotamd.com",78,78,87,87,"Yes","A"]
["The Doghouse",63199,"Dan Shannon",null,"shannon63199@verizon.net",111,111,111,111,"yes","B",40,12,35,12,29.5,25,6000,24.12,47.08,{"$f":"((R93/(2240*POWER((Q93/100),3))))","v":171.42857142857142},1]
["Valiant",60177,"John Durniak",null,"johndurniak@yahoo.com",93,93,93,93,"no","A",58.71,18.45,50.75,16,44,35.799999999999997,31641,16.63,33.83,{"$f":"((R94/(2240*POWER((Q94/100),3))))","v":307.8598847550997}]
["Wicked Good",93121,"Mark Gyorgy",null,"mygorgy@dscorp.com",132,132,132,132,"yes","B",35.25,10.199999999999999,37.200000000000003,12,26.83,23.42,3800,29.81,51.7,132.06109868494099,1]
["Spinnster",161,"Betsy Dodge",null,"bdodge33@comcast.net",171,null,null,null,"yes","C",30.5,9.5,29.5,12.25,25.92,21.67,4250,22.36,39.880000000000003,{"$f":"((R96/(2240*POWER((Q96/100),3))))","v":186.45076850448498}]
["Splash","USA 173","Tom Attick",null,"tattick@chattick.com",111,null,null,111,"yes","B",40,12,35,12,29.5,25,5500,25.56,49.85,157.14285714285714]
["Status Quo",63076,"Jimmy Yurko",null,"jimmydyurko@yahoo.com",108,null,null,108,"yes","A",36,11.75,31.5,10.75,30,27.5,3750,27.8,55.79,80.498014382311879]
["Stingray",63383,"Elliot Peterson",null,"tepeterson@dcscorp.com",129,null,null,129,"yes","B",38,10.95,32.4,12,27.9,23.8,5100,24.12,45.56,168.88508104322156]
["Synergy",83096,"Peter LaRoche",null,"no email",168,null,null,168,"no","C",39,12.5,34.25,11.5,29.96,25.25,7950,19.5,37.94,220.46261931499356]
["Tenounce",99,"John Mckinney",null,"no email",null,null,null,174,"no","C",41.5,13.87,35,13.75,33.17,26.25,10500,19.46,19.46,259.1512795594428]
["The Doghouse",63199,"Dan Shannon",null,"shannon63199@verizon.net",111,null,null,111,"yes","B",40,12,35,12,29.5,25,6000,24.12,47.08,171.42857142857142]
["The Riddler",63243,"Clarke McKinney",null,"cmckinney@quantumsails.com",108,null,null,114,"yes","A",34,11,32.5,11.5,29.67,27.5,3600,28.36,58.78,77.278093807019403]
["Toby",142,"Chris Eggert",null,"christopher.eggert@navy.mil",141,null,null,141,"yes","B",47.5,15,41.75,11.5,36,29,12800,19.03,37.770000000000003,234.29766346655111]
["Valiant",60177,"L. Allen, Navy PAX SC",null,"robert@luckritz.com",93,null,null,93,"yes *","A",58.71,18.45,50.75,16,44,35.799999999999997,31641,16.63,33.83,307.8598847550997]
["Whiskers",63063,"Jim Whited",null,"jimw625@comcast.net",96,null,null,96,"yes","A",50.9,15.16,44.1,13.1,37,30.32,12938,21.49,42.34,207.21993712386671]
["Wicked Good",93121,"Mark Gyorgy",null,"mygorgy@dscorp.com",132,null,null,132,"yes","B",35.25,10.199999999999999,37.200000000000003,12,26.83,23.42,3800,29.81,51.7,132.06109868494102]
["Wild Thing",87638,"Jimmy Yurko",null,"jimmydyurko@yahoo.com",183,null,null,186,"yes","C",22.6,7.25,24.04,9.33,20.329999999999998,18.420000000000002,1160,31.82,54.07,82.859268190743165]
["Family Truckster","USA788","Clarke Mckinney",null,"cmckinney@quantumsails.com",120,null,null,129,"no","B",31.5,9.5,30,12.5,26.25,22,2900,29.88,72.56,121.585542556617]

{"sheet":"ScoreSheet","index":4,"n_rows":45,"n_cols":14,"rows_kept":45,"cut":false,"hidden":false,"merged":[[0,0,0,3],[2,2,2,4],[0,4,0,10]]}
["SMSA Scoring Worksheet",null,null,null,"Race Name _________________________________"]
[null,"Date : ","_____________________",null,null,"RC: ",null,"____________________"]
[null,"Course: ","_______________________________________",null,null,null,null,null,null,null,null,"Finish time"]
["Boat","SailNo","Owner","Spin","NonSpin","Race Fee","PHRF Cert","Spinclass","Checked In","Start Class ","(hr)","(min)","(sec)","Notes"]
[" "," "," "," "," "," ",null," "]
[{"$f":"Boats!A4","v":"American Flyer"},{"$f":"Boats!B4","v":39519},{"$f":"Boats!C4","v":"Dan Schneider"},{"$f":"Boats!F4","v":36},{"$f":"Boats!I4","v":42},{"$f":"Boats!J4","v":"yes"},{"$f":"Boats!D4","v":"Y"},{"$f":"Boats!K4","v":"A"}]
[{"$f":"Boats!A5","v":"Arctic Tern"},{"$f":"Boats!B5","v":93642},{"$f":"Boats!C5","v":"PAX"},{"$f":"Boats!F5","v":168},{"$f":"Boats!I5","v":168},{"$f":"Boats!J5","v":"no"},{"$f":"Boats!D5","v":"Y"},{"$f":"Boats!K5","v":"C"}]
[{"$f":"Boats!A6","v":"Bad Cat"},{"$f":"Boats!B6","v":"063"},{"$f":"Boats!C6","v":"Jim Whited"},{"$f":"Boats!F6","v":39},{"$f":"Boats!I6","v":48},{"$f":"Boats!J6","v":"yes"},{"$f":"Boats!D6","v":"Y"},{"$f":"Boats!K6","v":"A"}]
[{"$f":"Boats!A7","v":"Badger"},{"$f":"Boats!B7","v":144},{"$f":"Boats!C7","v":"Carl Feusaherns"},{"$f":"Boats!F7","v":177},{"$f":"Boats!I7","v":177},{"$f":"Boats!J7","v":"yes"},{"$f":"Boats!D7","v":"Y"},{"$f":"Boats!K7","v":"C"}]
[{"$f":"Boats!A8","v":"Barba Roja"},{"$f":"Boats!B8","v":73052},{"$f":"Boats!C8","v":"Stephen Birchfield"},{"$f":"Boats!F8","v":165},{"$f":"Boats!I8","v":165},{"$f":"Boats!J8","v":"yes"},{"$f":"Boats!D8","v":"Y"},{"$f":"Boats!K8","v":"C"}]
[{"$f":"Boats!A9","v":"Blue Boat Home"},{"$f":"Boats!B9","v":4856},{"$f":"Boats!C9","v":"Lowell Martin"},{"$f":"Boats!F9","v":231},{"$f":"Boats!I9","v":231},{"$f":"Boats!J9","v":"no"},{"$f":"Boats!D9","v":"Y"},{"$f":"Boats!K9","v":"C"}]
[{"$f":"Boats!A10","v":"Blue Goose"},{"$f":"Boats!B10","v":93643},{"$f":"Boats!C10","v":"PAX"},{"$f":"Boats!F10","v":168},{"$f":"Boats!I10","v":168},{"$f":"Boats!J10","v":"no"},{"$f":"Boats!D10","v":"N"},{"$f":"Boats!K10","v":"C"}]
[{"$f":"Boats!A11","v":"C 2 (squared)"},{"$f":"Boats!B11","v":720},{"$f":"Boats!C11","v":"Chris Staley"},{"$f":"Boats!F11","v":189},{"$f":"Boats!I11","v":189},{"$f":"Boats!J11","v":"yes"},{"$f":"Boats!D11","v":"Y"},{"$f":"Boats!K11","v":"C"}]
[{"$f":"Boats!A12","v":"Cheetah"},{"$f":"Boats!B12","v":50473},{"$f":"Boats!C12","v":"Marc Briere"},{"$f":"Boats!F12","v":48},{"$f":"Boats!I12","v":57},{"$f":"Boats!J12","v":"yes"},{"$f":"Boats!D12","v":"Y"},{"$f":"Boats!K12","v":"A"}]
[{"$f":"Boats!A13","v":"Elan"},{"$f":"Boats!B13","v":43162},{"$f":"Boats!C13","v":"Gary Shaw"},{"$f":"Boats!F13","v":156},{"$f":"Boats!I13","v":156},{"$f":"Boats!J13","v":"no"},{"$f":"Boats!D13","v":"Y"},{"$f":"Boats!K13","v":"C"}]
[{"$f":"Boats!A14","v":"Flyer"},{"$f":"Boats!B14","v":25126},{"$f":"Boats!C14","v":"Michael Major"},{"$f":"Boats!F14","v":111},{"$f":"Boats!I14","v":114},{"$f":"Boats!J14","v":"no"},{"$f":"Boats!D14","v":"N"},{"$f":"Boats!K14","v":"B"}]
[{"$f":"Boats!A16","v":"J Ray"},{"$f":"Boats!B16","v":"USA47"},{"$f":"Boats!C16","v":"Larry Ray"},{"$f":"Boats!F16","v":114},{"$f":"Boats!I16","v":120},{"$f":"Boats!J16","v":"yes"},{"$f":"Boats!D15","v":"Y"},{"$f":"Boats!K16","v":"B"}]
[{"$f":"Boats!A17","v":"Juggernaut"},{"$f":"Boats!B17","v":51277},{"$f":"Boats!C17","v":"David Ahearn"},{"$f":"Boats!F17","v":39},{"$f":"Boats!I17","v":39},{"$f":"Boats!J17","v":"no"},{"$f":"Boats!D16","v":"Y"},{"$f":"Boats!K17","v":"A"}]
[{"$f":"Boats!A18","v":"Krugerrand"},{"$f":"Boats!B18","v":53477},{"$f":"Boats!C18","v":"Sarah Southworth"},{"$f":"Boats!F18","v":132},{"$f":"Boats!I18","v":132},{"$f":"Boats!J18","v":"no"},{"$f":"Boats!D17","v":"N"},{"$f":"Boats!K18","v":"B"}]
[{"$f":"Boats!A20","v":"Lickety Split"},{"$f":"Boats!B20","v":43067},{"$f":"Boats!C20","v":"Donna Maneely"},{"$f":"Boats!F20","v":168},{"$f":"Boats!I20","v":168},{"$f":"Boats!J20","v":"no"},{"$f":"Boats!D18","v":"N"},{"$f":"Boats!K20","v":"C"}]
[{"$f":"Boats!A21","v":"Natural Disaster"},{"$f":"Boats!B21","v":63243},{"$f":"Boats!C21","v":"Thomas Moulds"},{"$f":"Boats!F21","v":114},{"$f":"Boats!I21","v":114},{"$f":"Boats!J21","v":"yes"},{"$f":"Boats!D21","v":"N"},{"$f":"Boats!K21","v":"B"}]
[{"$f":"Boats!A22","v":"One Trick Pony"},{"$f":"Boats!B22","v":188},{"$f":"Boats!C22","v":"David Meiser"},{"$f":"Boats!F22","v":24},{"$f":"Boats!I22","v":30},{"$f":"Boats!J22","v":"yes"},{"$f":"Boats!D22","v":"Y"},{"$f":"Boats!K22","v":"A"}]
[{"$f":"Boats!A23","v":"Pony Express"},{"$f":"Boats!B23","v":50588},{"$f":"Boats!C23","v":"Jimmy Yurko"},{"$f":"Boats!F23","v":132},{"$f":"Boats!I23","v":138},{"$f":"Boats!J23","v":"yes"},{"$f":"Boats!D23","v":"Y"},{"$f":"Boats!K23","v":"B"}]
[{"$f":"Boats!A24","v":"Pursuit"},{"$f":"Boats!B24","v":23798},{"$f":"Boats!C24","v":"Norm Dawley"},{"$f":"Boats!F24","v":57},{"$f":"Boats!I24","v":66},{"$f":"Boats!J24","v":"yes"},{"$f":"Boats!D24","v":"Y"},{"$f":"Boats!K24","v":"A"}]
[{"$f":"Boats!A25","v":"Rakali"},{"$f":"Boats!B25","v":"USA335"},{"$f":"Boats!C25","v":"Mark Witte"},{"$f":"Boats!F25","v":90},{"$f":"Boats!I25","v":96},{"$f":"Boats!J25","v":"yes"},{"$f":"Boats!D25","v":"Y"},{"$f":"Boats!K25","v":"A"}]
[{"$f":"Boats!A26","v":"Shamal"},{"$f":"Boats!B26","v":23827},{"$f":"Boats!C26","v":"Jeff Carlsen"},{"$f":"Boats!F26","v":174},{"$f":"Boats!I26","v":174},{"$f":"Boats!J26","v":"yes"},{"$f":"Boats!D26","v":"Y"},{"$f":"Boats!K26","v":"C"}]
[{"$f":"Boats!A27","v":"Shermax"},{"$f":"Boats!B27","v":2276},{"$f":"Boats!C27","v":"Max Munger"},{"$f":"Boats!F27","v":177},{"$f":"Boats!I27","v":177},{"$f":"Boats!J27","v":"no"},{"$f":"Boats!D27","v":"Y"},{"$f":"Boats!K27","v":"C"}]
[{"$f":"Boats!A28","v":"Short Bus"},{"$f":"Boats!B28","v":71221},{"$f":"Boats!C28","v":"Hawk Caldwell"},{"$f":"Boats!F28","v":45},{"$f":"Boats!I28","v":54},{"$f":"Boats!J28","v":"yes"},{"$f":"Boats!D28","v":"Y"},{"$f":"Boats!K28","v":"A"}]
[{"$f":"Boats!A29","v":"SNUZULUZ"},{"$f":"Boats!B29","v":327},{"$f":"Boats!C29","v":"Clarke McKinney"},{"$f":"Boats!F29","v":177},{"$f":"Boats!I29","v":180},{"$f":"Boats!J29","v":"yes"},{"$f":"Boats!D29","v":"Y"},{"$f":"Boats!K29","v":"C"}]
[{"$f":"Boats!A30","v":"Spinnster"},{"$f":"Boats!B30","v":161},{"$f":"Boats!C30","v":"Betsy Dodge"},{"$f":"Boats!F30","v":171},{"$f":"Boats!I30","v":171},{"$f":"Boats!J30","v":"yes"},{"$f":"Boats!D30","v":"N"},{"$f":"Boats!K30","v":"C"}]
[{"$f":"Boats!A31","v":"Splash"},{"$f":"Boats!B31","v":"USA333"},{"$f":"Boats!C31","v":"Tom Attick"},{"$f":"Boats!F31","v":90},{"$f":"Boats!I31","v":96},{"$f":"Boats!J31","v":"no"},{"$f":"Boats!D31","v":"N"},{"$f":"Boats!K31","v":"A"}]
[{"$f":"Boats!A32","v":"Stingray"},{"$f":"Boats!B32","v":63383},{"$f":"Boats!C32","v":"Elliot Peterson"},{"$f":"Boats!F32","v":129},{"$f":"Boats!I32","v":129},{"$f":"Boats!J32","v":"yes"},{"$f":"Boats!D32","v":"Y"},{"$f":"Boats!K32","v":"B"}]
[{"$f":"Boats!A33","v":"Stormy Petrel"},{"$f":"Boats!B33","v":93644},{"$f":"Boats!C33","v":"PAX"},{"$f":"Boats!F33","v":168},{"$f":"Boats!I33","v":168},{"$f":"Boats!J33","v":"no"},{"$f":"Boats!D33","v":"N"},{"$f":"Boats!K33","v":"C"}]
[{"$f":"Boats!A34","v":"Supra"},{"$f":"Boats!B34","v":30023},{"$f":"Boats!C34","v":"Peter D'Arista"},{"$f":"Boats!F34","v":48},{"$f":"Boats!I34","v":57},{"$f":"Boats!J34","v":"no"},{"$f":"Boats!D34","v":"N"},{"$f":"Boats!K34","v":"A"}]
[{"$f":"Boats!A36","v":"The Doghouse"},{"$f":"Boats!B36","v":63199},{"$f":"Boats!C36","v":"Dan Shannon"},{"$f":"Boats!F36","v":111},{"$f":"Boats!I36","v":111},{"$f":"Boats!J36","v":"yes"},{"$f":"Boats!D36","v":"Y"},{"$f":"Boats!K36","v":"B"}]
[{"$f":"Boats!A37","v":"Triton's Fury"},{"$f":"Boats!B37","v":499},{"$f":"Boats!C37","v":"T. J. O'Farrell"},{"$f":"Boats!F37","v":252},{"$f":"Boats!I37","v":252},{"$f":"Boats!J37","v":"no"},{"$f":"Boats!D37","v":"N"},{"$f":"Boats!K37","v":"C"}]
[{"$f":"Boats!A38","v":"Whirlaway"},{"$f":"Boats!B38","v":73211},{"$f":"Boats!C38","v":"Frank Walter"},{"$f":"Boats!F38","v":114},{"$f":"Boats!I38","v":114},{"$f":"Boats!J38","v":"no"},{"$f":"Boats!D38","v":"Y"},{"$f":"Boats!K38","v":"B"}]
[{"$f":"Boats!A39","v":"Wicked Good"},{"$f":"Boats!B39","v":93121},{"$f":"Boats!C39","v":"Mark Gyorgy"},{"$f":"Boats!F39","v":132},{"$f":"Boats!I39","v":132},{"$f":"Boats!J39","v":"yes"},{"$f":"Boats!D39","v":"Y"},{"$f":"Boats!K39","v":"B"}]
[{"$f":"Boats!A40","v":"Wild Thing"},{"$f":"Boats!B40","v":87638},{"$f":"Boats!C40","v":"Jimmy Yurko"},{"$f":"Boats!F40","v":186},{"$f":"Boats!I40","v":186},{"$f":"Boats!J40","v":"yes"},{"$f":"Boats!D40","v":"N"},{"$f":"Boats!K40","v":"C"}]
[]
[]
[]
[]
[]
[null,null,"Boats without Handicap ratings will be scored with a 0 rating.  Scores will be updated when the Provisional Handicap is assigned."]

{"sheet":"RSinput","index":5,"n_rows":20,"n_cols":8,"rows_kept":20,"cut":false,"hidden":false,"merged":[]}
["Sail","BoatName","PHRF",null,null,null,"Finish","Division"]
["93084-X","Maverick",24,19,21,4,{"$f":"TIME(D2,E2,F2)","v":"19:21:04"},"PHRF A"]
[63243,"Natural Disaster",114,19,24,41,"19:24:41","PHRF B"]
[71221,"Short Bus",45,19,25,2,"19:25:02","PHRF A"]
[43067,"Lickety Split",168,19,28,27,"19:28:27","PHRF C"]
[50473,"Cheetah",42,19,28,30,"19:28:30","PHRF A"]
[43162,"Elan",156,19,29,27,"19:29:27","PHRF C"]
[63383,"Stingray",129,19,29,55,"19:29:55","PHRF B"]
["USA333","Splash",90,19,30,17,"19:30:17","PHRF A"]
["USA335","Rakali",90,19,30,34,"19:30:34","PHRF A"]
[63199,"The Doghouse",111,19,31,29,"19:31:29","PHRF B"]
["063","Bad Cat",39,19,31,36,"19:31:36","PHRF A"]
[144,"Badger",177,19,32,51,"19:32:51","PHRF C"]
[93121,"Wicked Good",132,19,32,54,"19:32:54","PHRF B"]
["USA47","J Ray",114,19,33,5,"19:33:05","PHRF B"]
[52994,"Hellcat",96,19,34,12,"19:34:12","PHRF B"]
[52994,"Hellcat",96,19,34,12,"19:34:12","PHRF A"]
["73211N","Whirlaway",114,19,36,24,"19:36:24","NonSpin"]
["93643N","Blue Goose",168,19,47,45,"19:47:45","NonSpin"]
["4856N","Blue Boat Home",231,20,0,0,"20:00:00","NonSpin"]

{"sheet":"Course","index":6,"n_rows":50,"n_cols":20,"rows_kept":50,"cut":false,"hidden":false,"merged":[]}
[null,20,20,null,null,null,20,20,null,null,20,20]
[null,20,20,null,null,"A",2,2,null,"A",2,2,null,"Page has been customized for Wednesday night MARKS"]
["A",2,2,null,null,"B",3,3,null,"B",3,3]
["B",3,3,null,null,"C",4,4,null,"E",5,5]
["E",5,5,null,null,"E",5,5,null,"K",10,10]
["K",10,10,null,null,"G",6,6,null,"L",11,11]
["L",11,11,null,null,"H",7,7,null,"M",12,12]
["M",12,12,null,null,"I",8,8,null,"S",17,17]
["S",17,17,null,null,"J",9,9,null,"T",14,14]
["T",14,14,null,null,"K",10,10,null,"X",16,16]
["V",16,16,null,null,"L",11,11,null,"Y",18,18]
["X",20,20,null,null,"M",12,12,null,"Z",19,19]
["Y",18,18,null,null,"S",17,17]
["Z",19,19,null,null,"T",14,14]
[null,null,null,null,null,"V",16,16]
[null,null,null,null,null,"X",16,16]
[null,null,null,null,null,"Y",18,18]
[null,null,null,null,null,"Z",19,19]
[null,"Active",null,null,null,null,"All",null,null,null,"Bay"]
[]
[]
[null,"A","B","C","E","G","H","I","J","K","L","M","N","T","U","V","S","Y","Z","X"]
["A",0,0.94,3.41,2.15,3.72,5.41,5.95,6.47,1.87,2.34,2.83,0,0.96,0,0.87,2.38,1.41,2.35,1.35]
["B",0.94,0,2.4700000000000002,1.28,2.82,4.47,5.01,5.53,2.8,3.19,3.71,0,1.58,0,1.82,3.19,2.17,3.11,2.15]
["C",3.41,2.4700000000000002,0,2.57,3.11,2.14,3.79,3.23,null,null,null,null,null,null,null,null,null,null,0]
["E",2.15,1.28,2.57,0,1.57,4.1399999999999997,4,5.09,null,null,null,null,null,null,null,null,null,null,0]
["G",3.72,2.82,3.11,1.57,0,3.85,2.7,4.57,null,null,null,null,null,null,null,null,null,null,0]
["H",5.41,4.47,2.14,4.1399999999999997,3.85,0,2.84,1.1000000000000001,null,null,null,null,null,null,null,null,null,null,0]
["I",5.95,5.01,3.79,4,2.7,2.84,0,2.87,null,null,null,null,null,null,null,null,null,null,0]
["J",6.47,5.53,3.23,5.09,4.57,1.1000000000000001,2.87,0,null,null,null,null,null,null,null,null,null,null,0]
["K",1.87,2.8,null,null,null,null,null,null,0,0.89,1.84,0,1.64,0,1.06,1.42,1.29,2.1,1.1299999999999999]
["L",2.34,3.19,null,null,null,null,null,null,0.89,0,1.01,0,1.72,0,1.73,0.76,1.2,1.86,1.1100000000000001]
["M",2.83,3.71,null,null,null,null,null,null,1.84,1.01,0,0,2.2400000000000002,0,2.4,0.56000000000000005,1.7,2.38,1.45]
["N",0,0,null,null,null,null,null,null,0,0,0,0,0,0,0,0,0,0,0]
["T",0.96,1.56,null,null,null,null,null,null,1.64,1.72,2.2400000000000002,0,0,0,1.23,1.73,0.69,1.62,0.65]
["U",0,0,null,null,null,null,null,null,0,0,0,0,0,0,0,0,0,0,0]
["V",0.87,1.82,null,null,null,null,null,null,1.06,1.73,2.4,0,1.1599999999999999,0,0,1.89,1.23,2.13,1.0900000000000001]
["S",2.36,3.19,null,null,null,null,null,null,1.42,0.76,0.56000000000000005,0,1.73,null,1.89,0,1.2,1.86,1.1100000000000001]
["Y",1.41,2.17,null,null,null,null,null,null,1.29,1.2,1.7,0,0.69,0,1.23,1.2,0,0.94,0.15]
["Z",2.35,3.11,null,null,null,null,null,null,2.1,1.86,2.38,0,1.62,0,2.13,1.86,0.94,0,1.1499999999999999]
["X",1.35,2.15,0,0,0,0,0,0,1.1299999999999999,1.1100000000000001,1.45,0,0.65,0,1.0900000000000001,1.1100000000000001,0.15,1.1499999999999999,0]
[]
[]
[]
["Middle Distance Series Course Table"]
[null,null,null,null,"NS","Spin"]
["Sharps Island Race",null,null,null,39.9,39.9]
["Little Choptank Race",null,null,null,32.5,32.5]
["Smith Point Race",null,null,null,42,59]
["Hooper Island Point-No-Point Race",null,null,null,29.4,29.4]